BEGIN:VCALENDAR
PRODID:-//eluceo/ical//2.0/EN
VERSION:2.0
CALSCALE:GREGORIAN
BEGIN:VEVENT
UID:66480d0cd238442e82531408e73db9b9
DTSTAMP:20260421T053700Z
SUMMARY:BBYO BBG Shabbat Dinner
DESCRIPTION:Hamilton Jewish Federation\nCommunity Calendar\nhttps://jewishh
 amilton.org/community-calendar/bbyo-bbg-shabbat-dinner-1772663211\n\nCheck
  out bbyo.ca/hamilton for details
DTSTART;TZID=America/Toronto:20260306T173000
DTEND;TZID=America/Toronto:20260306T210000
END:VEVENT
END:VCALENDAR
