BEGIN:VCALENDAR
PRODID:-//eluceo/ical//2.0/EN
VERSION:2.0
CALSCALE:GREGORIAN
BEGIN:VEVENT
UID:f65b701f8db91728e03918c2ddf9fa5a
DTSTAMP:20260419T142213Z
SUMMARY:Beth Jacob Synagogue Soul Body & Mind
DESCRIPTION:Hamilton Jewish Federation\nCommunity Calendar\nhttps://jewishh
 amilton.org/community-calendar/beth-jacob-synagogue-soul-body-mind\n\nThe 
 Samaritans today and how they can shed light on what life was like for the
  Jews during second Temple times. Speaker Dr. Benson Honig
DTSTART;TZID=America/Toronto:20140223T090000
DTEND;TZID=America/Toronto:20140223T110000
END:VEVENT
END:VCALENDAR
