BEGIN:VCALENDAR
PRODID:-//eluceo/ical//2.0/EN
VERSION:2.0
CALSCALE:GREGORIAN
BEGIN:VEVENT
UID:a1d61d4e269336153bb16c0b2fab22f4
DTSTAMP:20260419T180202Z
SUMMARY:GALA TRIBUTE
DESCRIPTION:Hamilton Jewish Federation\nCommunity Calendar\nhttps://jewishh
 amilton.org/community-calendar/gala-tribute-1474311467\n\nDINNER 6:00 PM\,
  VIDEO PRESENTATION\, AWARDS
DTSTART;TZID=America/Toronto:20170516T000000
DTEND;TZID=America/Toronto:20170516T180000
END:VEVENT
END:VCALENDAR
