BEGIN:VCALENDAR
PRODID:-//eluceo/ical//2.0/EN
VERSION:2.0
CALSCALE:GREGORIAN
BEGIN:VEVENT
UID:bb30588bb5b9b6253a4510416f20cdb5
DTSTAMP:20260421T100600Z
SUMMARY:Jewish Genealogical Society
DESCRIPTION:Hamilton Jewish Federation\nCommunity Calendar\nhttps://jewishh
 amilton.org/community-calendar/jewish-genealogical-society-1553628066\n\nT
 he Immigrant Voyage Presented by Phyllis Kramer http://www.jgsh.org/events
 .php?ITEM=20In this presentation Phyllis will address many of the question
 s associated with the immigrants` experience including: …how did the imm
 igrants get the ticket\, …get to the port\, …what hardships did they e
 ndure\, …what was the voyage like\, …what immigration laws affected th
 em\, …what documents did they come with\, …how do we find and understa
 nd manifests\, their handwriting and notations.Phyllis is a...
DTSTART;TZID=America/Toronto:20190522T193000
DTEND;TZID=America/Toronto:20190522T213000
END:VEVENT
END:VCALENDAR
