BEGIN:VCALENDAR
PRODID:-//eluceo/ical//2.0/EN
VERSION:2.0
CALSCALE:GREGORIAN
BEGIN:VEVENT
UID:555bc8bc2c641c0047ea8cfee4cc9e76
DTSTAMP:20260419T142306Z
SUMMARY:Stop-The-Bleed training
DESCRIPTION:Hamilton Jewish Federation\nCommunity Calendar\nhttps://jewishh
 amilton.org/community-calendar/stop-the-bleed-training-1764175020\n\nStop 
 The Bleed training is the most effective way to save a life by learning 3 
 basic actions to control severe bleeding in an injured person. Training is
  provided by the Hamilton Jewish Federation's Regional Security Advisor wi
 th the assistance of an experienced advanced care paramedic.\n\nFor regist
 ration details click here
DTSTART;TZID=America/Toronto:20260219T183000
DTEND;TZID=America/Toronto:20260219T203000
END:VEVENT
END:VCALENDAR
