BEGIN:VCALENDAR
PRODID:-//eluceo/ical//2.0/EN
VERSION:2.0
CALSCALE:GREGORIAN
BEGIN:VEVENT
UID:524195e7cd34603c47eb1124225baffc
DTSTAMP:20260420T024537Z
SUMMARY:Yom HaZikaron
DESCRIPTION:Hamilton Jewish Federation\nCommunity Calendar\nhttps://jewishh
 amilton.org/community-calendar/yom-hazikaron2026-489031\n\n
DTSTART;TZID=America/Toronto:20260421T000000
DTEND;TZID=America/Toronto:20260421T235959
END:VEVENT
END:VCALENDAR
